{
 "currentVersion": 10.81,
 "serviceDescription": "",
 "mapName": "Layers",
 "description": "",
 "copyrightText": "",
 "supportsDynamicLayers": true,
 "layers": [
  {
   "id": 0,
   "name": "Zona non aedificandi IC6",
   "parentLayerId": -1,
   "defaultVisibility": true,
   "subLayerIds": null,
   "minScale": 0,
   "maxScale": 0,
   "type": "Feature Layer",
   "geometryType": "esriGeometryPolygon"
  },
  {
   "id": 1,
   "name": "Zona non aedificandi EN ER END",
   "parentLayerId": -1,
   "defaultVisibility": true,
   "subLayerIds": null,
   "minScale": 0,
   "maxScale": 0,
   "type": "Feature Layer",
   "geometryType": "esriGeometryPolygon"
  },
  {
   "id": 2,
   "name": "Estações - Metro do Mondego",
   "parentLayerId": -1,
   "defaultVisibility": true,
   "subLayerIds": null,
   "minScale": 0,
   "maxScale": 0,
   "type": "Feature Layer",
   "geometryType": "esriGeometryPoint"
  },
  {
   "id": 3,
   "name": "Metro do Mondego",
   "parentLayerId": -1,
   "defaultVisibility": true,
   "subLayerIds": null,
   "minScale": 0,
   "maxScale": 0,
   "type": "Feature Layer",
   "geometryType": "esriGeometryPolyline"
  },
  {
   "id": 4,
   "name": "Rede Viária",
   "parentLayerId": -1,
   "defaultVisibility": true,
   "subLayerIds": null,
   "minScale": 0,
   "maxScale": 0,
   "type": "Feature Layer",
   "geometryType": "esriGeometryPolyline"
  },
  {
   "id": 5,
   "name": "Captações",
   "parentLayerId": -1,
   "defaultVisibility": true,
   "subLayerIds": null,
   "minScale": 0,
   "maxScale": 0,
   "type": "Feature Layer",
   "geometryType": "esriGeometryPoint"
  },
  {
   "id": 6,
   "name": "Zona Proteção Imediata",
   "parentLayerId": -1,
   "defaultVisibility": true,
   "subLayerIds": null,
   "minScale": 0,
   "maxScale": 0,
   "type": "Feature Layer",
   "geometryType": "esriGeometryPolygon"
  },
  {
   "id": 7,
   "name": "Zona Proteção Intermédia",
   "parentLayerId": -1,
   "defaultVisibility": true,
   "subLayerIds": null,
   "minScale": 0,
   "maxScale": 0,
   "type": "Feature Layer",
   "geometryType": "esriGeometryPolygon"
  },
  {
   "id": 8,
   "name": "Zona Proteção Alargada",
   "parentLayerId": -1,
   "defaultVisibility": true,
   "subLayerIds": null,
   "minScale": 0,
   "maxScale": 0,
   "type": "Feature Layer",
   "geometryType": "esriGeometryPolygon"
  },
  {
   "id": 9,
   "name": "Zona Proteção Barragem",
   "parentLayerId": -1,
   "defaultVisibility": true,
   "subLayerIds": null,
   "minScale": 0,
   "maxScale": 0,
   "type": "Feature Layer",
   "geometryType": "esriGeometryPolyline"
  },
  {
   "id": 10,
   "name": "FGC Rede Primária",
   "parentLayerId": -1,
   "defaultVisibility": true,
   "subLayerIds": null,
   "minScale": 0,
   "maxScale": 0,
   "type": "Feature Layer",
   "geometryType": "esriGeometryPolygon"
  },
  {
   "id": 11,
   "name": "Arvoredo de Interesse Público",
   "parentLayerId": -1,
   "defaultVisibility": true,
   "subLayerIds": null,
   "minScale": 0,
   "maxScale": 0,
   "type": "Feature Layer",
   "geometryType": "esriGeometryMultipoint"
  },
  {
   "id": 12,
   "name": "Património ZEP",
   "parentLayerId": -1,
   "defaultVisibility": true,
   "subLayerIds": null,
   "minScale": 0,
   "maxScale": 0,
   "type": "Feature Layer",
   "geometryType": "esriGeometryPolygon"
  },
  {
   "id": 13,
   "name": "Património ZP",
   "parentLayerId": -1,
   "defaultVisibility": true,
   "subLayerIds": null,
   "minScale": 0,
   "maxScale": 0,
   "type": "Feature Layer",
   "geometryType": "esriGeometryPolygon"
  },
  {
   "id": 14,
   "name": "Castro Lomba do Canho",
   "parentLayerId": -1,
   "defaultVisibility": true,
   "subLayerIds": null,
   "minScale": 0,
   "maxScale": 0,
   "type": "Feature Layer",
   "geometryType": "esriGeometryPolygon"
  },
  {
   "id": 15,
   "name": "Património Classificado",
   "parentLayerId": -1,
   "defaultVisibility": true,
   "subLayerIds": null,
   "minScale": 0,
   "maxScale": 0,
   "type": "Feature Layer",
   "geometryType": "esriGeometryPoint"
  },
  {
   "id": 16,
   "name": "Área de Reserva - Catraia",
   "parentLayerId": -1,
   "defaultVisibility": true,
   "subLayerIds": null,
   "minScale": 0,
   "maxScale": 0,
   "type": "Feature Layer",
   "geometryType": "esriGeometryPolygon"
  },
  {
   "id": 17,
   "name": "Áreas de exploração consolidada",
   "parentLayerId": -1,
   "defaultVisibility": true,
   "subLayerIds": null,
   "minScale": 0,
   "maxScale": 0,
   "type": "Feature Layer",
   "geometryType": "esriGeometryPolygon"
  },
  {
   "id": 18,
   "name": "Pontos de Água",
   "parentLayerId": -1,
   "defaultVisibility": true,
   "subLayerIds": null,
   "minScale": 0,
   "maxScale": 0,
   "type": "Feature Layer",
   "geometryType": "esriGeometryPoint"
  },
  {
   "id": 19,
   "name": "POAF_Albufeiras",
   "parentLayerId": -1,
   "defaultVisibility": true,
   "subLayerIds": null,
   "minScale": 0,
   "maxScale": 0,
   "type": "Feature Layer",
   "geometryType": "esriGeometryPolygon"
  },
  {
   "id": 20,
   "name": "Rei dos Moinhos Proteção",
   "parentLayerId": -1,
   "defaultVisibility": true,
   "subLayerIds": null,
   "minScale": 0,
   "maxScale": 0,
   "type": "Feature Layer",
   "geometryType": "esriGeometryPolygon"
  },
  {
   "id": 21,
   "name": "Rede Muito Alta Tensão 220kV",
   "parentLayerId": -1,
   "defaultVisibility": true,
   "subLayerIds": null,
   "minScale": 0,
   "maxScale": 0,
   "type": "Feature Layer",
   "geometryType": "esriGeometryPolyline"
  },
  {
   "id": 22,
   "name": "Rede Média e Alta Tensão",
   "parentLayerId": -1,
   "defaultVisibility": true,
   "subLayerIds": null,
   "minScale": 0,
   "maxScale": 0,
   "type": "Feature Layer",
   "geometryType": "esriGeometryPolyline"
  },
  {
   "id": 23,
   "name": "Paisagem Protegida - Serra do Açor",
   "parentLayerId": -1,
   "defaultVisibility": true,
   "subLayerIds": null,
   "minScale": 0,
   "maxScale": 0,
   "type": "Feature Layer",
   "geometryType": "esriGeometryPolygon"
  },
  {
   "id": 24,
   "name": "Zona Especial de Conservação Complexo do Açor",
   "parentLayerId": -1,
   "defaultVisibility": true,
   "subLayerIds": null,
   "minScale": 0,
   "maxScale": 0,
   "type": "Feature Layer",
   "geometryType": "esriGeometryPolygon"
  },
  {
   "id": 25,
   "name": "Vértices Geodésicos (label)",
   "parentLayerId": -1,
   "defaultVisibility": true,
   "subLayerIds": null,
   "minScale": 0,
   "maxScale": 0,
   "type": "Feature Layer",
   "geometryType": "esriGeometryPoint"
  },
  {
   "id": 26,
   "name": "Vértices Geodésicos",
   "parentLayerId": -1,
   "defaultVisibility": true,
   "subLayerIds": null,
   "minScale": 0,
   "maxScale": 0,
   "type": "Feature Layer",
   "geometryType": "esriGeometryPoint"
  },
  {
   "id": 27,
   "name": "Albufeiras",
   "parentLayerId": -1,
   "defaultVisibility": true,
   "subLayerIds": null,
   "minScale": 0,
   "maxScale": 0,
   "type": "Feature Layer",
   "geometryType": "esriGeometryPolygon"
  }
 ],
 "tables": [],
 "spatialReference": {
  "wkid": 102100,
  "latestWkid": 3857
 },
 "singleFusedMapCache": true,
 "tileInfo": {
  "rows": 256,
  "cols": 256,
  "dpi": 96,
  "format": "PNG",
  "compressionQuality": 0,
  "origin": {
   "x": -2.0037508342787E7,
   "y": 2.0037508342787E7
  },
  "spatialReference": {
   "wkid": 102100,
   "latestWkid": 3857
  },
  "lods": [
   {
    "level": 0,
    "resolution": 76.4370282850732,
    "scale": 288895.277144
   },
   {
    "level": 1,
    "resolution": 38.2185141425366,
    "scale": 144447.638572
   },
   {
    "level": 2,
    "resolution": 19.1092570712683,
    "scale": 72223.819286
   },
   {
    "level": 3,
    "resolution": 9.55462853563415,
    "scale": 36111.909643
   },
   {
    "level": 4,
    "resolution": 4.77731426794937,
    "scale": 18055.954822
   },
   {
    "level": 5,
    "resolution": 2.38865713397468,
    "scale": 9027.977411
   },
   {
    "level": 6,
    "resolution": 1.19432856685505,
    "scale": 4513.988705
   },
   {
    "level": 7,
    "resolution": 0.597164283559817,
    "scale": 2256.994353
   },
   {
    "level": 8,
    "resolution": 0.298582141647617,
    "scale": 1128.497176
   }
  ]
 },
 "initialExtent": {
  "xmin": -916398.548509727,
  "ymin": 4873252.006854581,
  "xmax": -862713.0241247176,
  "ymax": 4922439.45882662,
  "spatialReference": {
   "cs": "pcs",
   "wkid": 102100
  }
 },
 "fullExtent": {
  "xmin": -913936.8850804145,
  "ymin": 4886300.874221473,
  "xmax": -865240.7896633623,
  "ymax": 4909363.515823406,
  "spatialReference": {
   "cs": "pcs",
   "wkid": 102100
  }
 },
 "minScale": 288895.277144,
 "maxScale": 1128.497176,
 "minLOD": 0,
 "maxLOD": 8,
 "units": "esriMeters",
 "supportedImageFormatTypes": "PNG32,PNG24,PNG,JPG,DIB,TIFF,EMF,PS,PDF,GIF,SVG,SVGZ,BMP",
 "documentInfo": {
  "Title": "",
  "Author": "",
  "Comments": "",
  "Subject": "",
  "Category": "",
  "AntialiasingMode": "None",
  "TextAntialiasingMode": "Force",
  "Keywords": ""
 },
 "capabilities": "Map,Query,Data",
 "supportedQueryFormats": "JSON, geoJSON",
 "exportTilesAllowed": false,
 "referenceScale": 0,
 "datumTransformations": [
  {
   "geoTransforms": [
    {
     "wkid": 6189,
     "latestWkid": 6189,
     "transformForward": false,
     "name": "Datum_73_To_ETRS_1989_6"
    },
    {
     "wkid": 108025,
     "latestWkid": 108025,
     "transformForward": true,
     "name": "Datum_73_To_WGS_1984_NTv2"
    }
   ]
  },
  {
   "geoTransforms": [
    {
     "wkid": 108025,
     "latestWkid": 108025,
     "transformForward": false,
     "name": "Datum_73_To_WGS_1984_NTv2"
    },
    {
     "wkid": 6189,
     "latestWkid": 6189,
     "transformForward": true,
     "name": "Datum_73_To_ETRS_1989_6"
    }
   ]
  }
 ],
 "supportsDatumTransformation": true,
 "maxRecordCount": 1000,
 "maxImageHeight": 4096,
 "maxImageWidth": 4096,
 "supportedExtensions": "KmlServer"
}
